BEGIN:VCALENDAR
VERSION:1.0
PRDID:RBC Web Calendar
METHD:PUBLISH
TZ:-08
BEGIN:VEVENT
DTSTART:20240713T123000
DTEND:19700101T000000
LOCATION:4/34 Virginia Street, Rosehill
TRANSP:PAQUE
UUID:0.62802100 1776758516
DTSTAMP:20260421T080156
SUMMARY:Hunters Agency & Co - Inspection
DESCRIPTION;ENCODING=QUOTED-PRINTABLE: Inspection Time for Rosehill property
BEGIN:VALARM
TRIGGER:PT15M
ACTIN:DISPLAY
END:VALARM
END:VEVENT
END:VCALENDAR
